BEGIN:VCALENDAR
VERSION:2.0
PRODID:-//Harley-Davidson Club Sweden - ECPv6.8.1//NONSGML v1.0//EN
CALSCALE:GREGORIAN
METHOD:PUBLISH
X-ORIGINAL-URL:https://hdcs.se
X-WR-CALDESC:Händelser för Harley-Davidson Club Sweden
REFRESH-INTERVAL;VALUE=DURATION:PT1H
X-Robots-Tag:noindex
X-PUBLISHED-TTL:PT1H
BEGIN:VTIMEZONE
TZID:Europe/Stockholm
BEGIN:DAYLIGHT
TZOFFSETFROM:+0100
TZOFFSETTO:+0200
TZNAME:CEST
DTSTART:20260329T010000
END:DAYLIGHT
BEGIN:STANDARD
TZOFFSETFROM:+0200
TZOFFSETTO:+0100
TZNAME:CET
DTSTART:20261025T010000
END:STANDARD
END:VTIMEZONE
BEGIN:VEVENT
DTSTART;TZID=Europe/Stockholm:20260305T183000
DTEND;TZID=Europe/Stockholm:20260305T193000
DTSTAMP:20260420T134531
CREATED:20260225T113942Z
LAST-MODIFIED:20260225T113942Z
UID:10004048-1772735400-1772739000@hdcs.se
SUMMARY:DOA - Skytte
DESCRIPTION:Skytte 5 mars kl.18:30 \nVar och en bokar själv så ses vi där.\nhemsida: target.se\nVästberga allé 60\, nedre plan\n12630 Hägersten\nTel: 08 7269600 \nStort utbud av gevär och pistol. Utbildad och erfaren instruktör finns med dig för maximal säkerhet. \nKostnad från 1395-1795 plus ev. egna tillägg. Det finns också armborstskytte från 795 kr. \nBakgrundskontroll genomförs i samband med bokning\, mqn uppger personnummer. Från 18 år. \nDOA Lennart 0722 126 320
URL:https://hdcs.se/evenemang/doa-skytte/
LOCATION:The Target\, Västberga allé 60\, Hägersten\, 12630
CATEGORIES:Distrikt A
END:VEVENT
END:VCALENDAR