BEGIN:VCALENDAR
VERSION:2.0
PRODID:-//Harley-Davidson Club Sweden - ECPv6.8.1//NONSGML v1.0//EN
CALSCALE:GREGORIAN
METHOD:PUBLISH
X-ORIGINAL-URL:https://hdcs.se
X-WR-CALDESC:Händelser för Harley-Davidson Club Sweden
REFRESH-INTERVAL;VALUE=DURATION:PT1H
X-Robots-Tag:noindex
X-PUBLISHED-TTL:PT1H
BEGIN:VTIMEZONE
TZID:Europe/Stockholm
BEGIN:DAYLIGHT
TZOFFSETFROM:+0100
TZOFFSETTO:+0200
TZNAME:CEST
DTSTART:20260329T010000
END:DAYLIGHT
BEGIN:STANDARD
TZOFFSETFROM:+0200
TZOFFSETTO:+0100
TZNAME:CET
DTSTART:20261025T010000
END:STANDARD
END:VTIMEZONE
BEGIN:VEVENT
DTSTART;TZID=Europe/Stockholm:20260228T180000
DTEND;TZID=Europe/Stockholm:20260228T200000
DTSTAMP:20260420T124013
CREATED:20260203T060831Z
LAST-MODIFIED:20260203T060831Z
UID:10004038-1772301600-1772308800@hdcs.se
SUMMARY:DOA - Bowlingkväll
DESCRIPTION:Bowlingkväll kl.18:00 \nNew Bowl Center Gullmarsplan \nVälkomna\nPetra 0733748100
URL:https://hdcs.se/evenemang/doa-bowlingkvall/
LOCATION:New Bowl Center Gullmarsplan\, Simlångsvägen\, Gullmarsplan 50\, Stockholm
CATEGORIES:Distrikt A
END:VEVENT
END:VCALENDAR