BEGIN:VCALENDAR
VERSION:2.0
PRODID:-//Harley-Davidson Club Sweden - ECPv6.8.1//NONSGML v1.0//EN
CALSCALE:GREGORIAN
METHOD:PUBLISH
X-WR-CALNAME:Harley-Davidson Club Sweden
X-ORIGINAL-URL:https://hdcs.se
X-WR-CALDESC:Händelser för Harley-Davidson Club Sweden
REFRESH-INTERVAL;VALUE=DURATION:PT1H
X-Robots-Tag:noindex
X-PUBLISHED-TTL:PT1H
BEGIN:VTIMEZONE
TZID:Europe/Stockholm
BEGIN:DAYLIGHT
TZOFFSETFROM:+0100
TZOFFSETTO:+0200
TZNAME:CEST
DTSTART:20260329T010000
END:DAYLIGHT
BEGIN:STANDARD
TZOFFSETFROM:+0200
TZOFFSETTO:+0100
TZNAME:CET
DTSTART:20261025T010000
END:STANDARD
END:VTIMEZONE
BEGIN:VEVENT
DTSTART;TZID=Europe/Stockholm:20260421T113000
DTEND;TZID=Europe/Stockholm:20260421T123000
DTSTAMP:20260421T115426
CREATED:20251117T130500Z
LAST-MODIFIED:20251117T130500Z
UID:10003809-1776771000-1776774600@hdcs.se
SUMMARY:DOA - Tisdagslunch
DESCRIPTION:Vi ses på Väringgården’s Kök och Bar och äter Raggmunk varje tisdag\, året om. \nLennart 0722 126 320
URL:https://hdcs.se/evenemang/doa-tisdagslunch/2026-04-21/
LOCATION:Väringgården\, Träkvista torg\, Jungfrusundsvägen 6\, Ekerö
CATEGORIES:Distrikt A
END:VEVENT
BEGIN:VEVENT
DTSTART;TZID=Europe/Stockholm:20260421T172000
DTEND;TZID=Europe/Stockholm:20260421T213000
DTSTAMP:20260421T115426
CREATED:20260228T045052Z
LAST-MODIFIED:20260228T045344Z
UID:10004053-1776792000-1776807000@hdcs.se
SUMMARY:LO-C Borås tisdags körningar.
DESCRIPTION:Välkomna på tisdags körning LO Paula guidar oss på en tur. Samling kl. 17:20 Avfärd kl. 17.30 Kom fulltankade och klara Vid regn eller sjöblöta vägar eller låga temperaturer kan detta ställas in\, För mer information kontakta Paula Melakari 0724-528667
URL:https://hdcs.se/evenemang/lo-c-boras-tisdags-korningar/2026-04-21/
LOCATION:kasernvägen 2\, Kasernvägen 2\, Borås
CATEGORIES:Distrikt C
ORGANIZER;CN="Paula Melakari":MAILTO:paula73_melakari@hotmail.com
END:VEVENT
BEGIN:VEVENT
DTSTART;TZID=Europe/Stockholm:20260421T173000
DTEND;TZID=Europe/Stockholm:20260421T203000
DTSTAMP:20260421T115426
CREATED:20251114T113718Z
LAST-MODIFIED:20251114T120305Z
UID:10003625-1776792600-1776803400@hdcs.se
SUMMARY:DOA - Kvällskörning Ekerö\, udda veckor
DESCRIPTION:Välkomna på tisdagskörning\nVarannan vecka guidar DO/LO Lennart oss på en tur. \nSamling kl. 17:30\nPlanerad avfärd kl. 18:00 \nKom fulltankade och klara\nVid regn eller sjöblöta vägar kan detta ställas in\,\nFör mer information kontakta \nLennart Sellin\n0722-126320
URL:https://hdcs.se/evenemang/doa-kvallskorning-ekero-udda-veckor/2026-04-21/
LOCATION:OKQ8\, Åkerstigen 22\, 178 34 Ekerö\, Sverige
CATEGORIES:Distrikt A
END:VEVENT
BEGIN:VEVENT
DTSTART;TZID=Europe/Stockholm:20260421T180000
DTEND;TZID=Europe/Stockholm:20260421T200000
DTSTAMP:20260421T115426
CREATED:20260415T132337Z
LAST-MODIFIED:20260415T132337Z
UID:10004365-1776794400-1776801600@hdcs.se
SUMMARY:DOH-Fika på stan Umeå
DESCRIPTION:Fika på stan i Umeå kl 18.00 Biltema.\nTa med gamla och nya medlemmar och kompisar som vill hänga på.
URL:https://hdcs.se/evenemang/doh-fika-pa-stan-umea-6/
LOCATION:Biltema Umeå\, Fogvägen 2\, Umeå\, 90621\, Sweden
CATEGORIES:Distrikt H
END:VEVENT
END:VCALENDAR