BEGIN:VCALENDAR
VERSION:2.0
PRODID:-//Harley-Davidson Club Sweden - ECPv6.8.1//NONSGML v1.0//EN
CALSCALE:GREGORIAN
METHOD:PUBLISH
X-WR-CALNAME:Harley-Davidson Club Sweden
X-ORIGINAL-URL:https://hdcs.se
X-WR-CALDESC:Händelser för Harley-Davidson Club Sweden
REFRESH-INTERVAL;VALUE=DURATION:PT1H
X-Robots-Tag:noindex
X-PUBLISHED-TTL:PT1H
BEGIN:VTIMEZONE
TZID:Europe/Stockholm
BEGIN:DAYLIGHT
TZOFFSETFROM:+0100
TZOFFSETTO:+0200
TZNAME:CEST
DTSTART:20260329T010000
END:DAYLIGHT
BEGIN:STANDARD
TZOFFSETFROM:+0200
TZOFFSETTO:+0100
TZNAME:CET
DTSTART:20261025T010000
END:STANDARD
END:VTIMEZONE
BEGIN:VEVENT
DTSTART;TZID=Europe/Stockholm:20260327T170000
DTEND;TZID=Europe/Stockholm:20260327T210000
DTSTAMP:20260420T162457
CREATED:20260301T140033Z
LAST-MODIFIED:20260312T065910Z
UID:10004320-1774630800-1774645200@hdcs.se
SUMMARY:PUB-KVÄLL på Murphys i Jönköping
DESCRIPTION:PUB KVÄLL på Murphys fredag 27 mars \, Lundströms plats 2 i Jönköping som ligger alldeles vid Resecentrum.\nAW buffé serveras från kl 17\, 260kr inkl 1 dryck\, 220kr alkoholfritt alternativ.\n\n\n\nAnmälan senast 22 mars till mig 0734-366323 eller LO Peter 0708-451789.\n\n\n\nVill man bara ta något att dricka och tjöta lite är det bara att glida in.\n\n\n\nVäl mött Bjarne & Peter
URL:https://hdcs.se/evenemang/av-pa-murphys-i-jonkoping/
LOCATION:Murphys Jönköping\, Lundströms Plats 2\, Jönköping\, 553 16\, Sweden
CATEGORIES:Distrikt D
ORGANIZER;CN="DSD Bjarne Sj%C3%B6gren":MAILTO:dsd.hdcs@gmail.com
END:VEVENT
END:VCALENDAR